BEGIN:VCALENDAR
VERSION:2.0
PRODID:-//Inner Strength, Inc. with Dr Ted Cibik - ECPv6.2.0.1//NONSGML v1.0//EN
CALSCALE:GREGORIAN
METHOD:PUBLISH
X-WR-CALNAME:Inner Strength, Inc. with Dr Ted Cibik
X-ORIGINAL-URL:https://inner-strength.com
X-WR-CALDESC:Events for Inner Strength, Inc. with Dr Ted Cibik
REFRESH-INTERVAL;VALUE=DURATION:PT1H
X-Robots-Tag:noindex
X-PUBLISHED-TTL:PT1H
BEGIN:VTIMEZONE
TZID:UTC
BEGIN:STANDARD
TZOFFSETFROM:+0000
TZOFFSETTO:+0000
TZNAME:UTC
DTSTART:20230101T000000
END:STANDARD
END:VTIMEZONE
BEGIN:VEVENT
DTSTART;TZID=UTC:20230301T190000
DTEND;TZID=UTC:20230322T200000
DTSTAMP:20260425T203508
CREATED:20230227T192316Z
LAST-MODIFIED:20230820T051006Z
UID:1647-1677697200-1679515200@inner-strength.com
SUMMARY:Spring Detox - Weekly Wisdom Online Class
DESCRIPTION:4 week online course on Wednesday evenings\, live from 7-8pm ET.\nClass will also be recorded and available for you to watch in the future.\nThis 4-part class will teach you all the steps necessary to do a safe detox of the organ systems plus lymph and cleaning up the blood from viral / bacterial load. \nNot everyone can detox the same way nor should they. \nThis course will inform you of how to determine what order you should detox in and what should be focused on for your chemistry type. \nA list of questions will be provided to determine what detox protocol you should follow. \nOnce you have determined your proper detox protocol\, methods of detox will be discussed along with what can assist in detox and more importantly what not to do. An improper detox can cause toxic load to be released sometimes faster than the body can naturally eliminate the toxic load. It is all about tolerances and knowing what yours are and where to start. \nVarious herbs\, essential oils as well as the benefits of saunas\, will be discussed to assist in your detox safely. \nI will be also teaching a Qigong exercise to assist in detox. \nYou can attend LIVE or access the recording 2 days after the LIVE class. \nClick here to register for $60
URL:https://inner-strength.com/event/spring-detox-protocols-and-qigong/
LOCATION:ONLINE
ATTACH;FMTTYPE=image/jpeg:https://inner-strength.com/wp-content/uploads/2023/02/Weekly-Qigong-Online20.jpg
END:VEVENT
BEGIN:VEVENT
DTSTART;TZID=UTC:20230312T190000
DTEND;TZID=UTC:20230312T210000
DTSTAMP:20260425T203508
CREATED:20220830T191548Z
LAST-MODIFIED:20230820T051009Z
UID:1491-1678647600-1678654800@inner-strength.com
SUMMARY:Taoist Priest Program
DESCRIPTION:For those serious beings looking to step into the sacred role of coaching\, counseling\, ceremony and the sacred. This course takes one on the path to becoming the priest to assist others with life’s challenges and offer spiritual coaching. \nThis is a 2-year study program. Graduation and ordination upon completion of all assignments and 18 priest program classes. Classes are held on Saturday evenings from 7-9 pm ET\, on the second weekend of the month. One must be enrolled in the Immortal Mind program to participate in this program. \nClick here for more information \nImmortal Mind – Taoist Priest Program \n \n 
URL:https://inner-strength.com/event/taoist-priest-program/
LOCATION:Inner Strength\, Inc.\, 825 Lovers Leap Rd\, Leechburg\, PA\, 15656\, United States
ATTACH;FMTTYPE=image/jpeg:https://inner-strength.com/wp-content/uploads/2022/08/Medical-Qigong-Therapist6.jpg
END:VEVENT
END:VCALENDAR