BEGIN:VCALENDAR
VERSION:2.0
PRODID:-//Inner Strength, Inc. with Dr Ted Cibik - ECPv6.2.0.1//NONSGML v1.0//EN
CALSCALE:GREGORIAN
METHOD:PUBLISH
X-ORIGINAL-URL:https://inner-strength.com
X-WR-CALDESC:Events for Inner Strength, Inc. with Dr Ted Cibik
REFRESH-INTERVAL;VALUE=DURATION:PT1H
X-Robots-Tag:noindex
X-PUBLISHED-TTL:PT1H
BEGIN:VTIMEZONE
TZID:UTC
BEGIN:STANDARD
TZOFFSETFROM:+0000
TZOFFSETTO:+0000
TZNAME:UTC
DTSTART:20220101T000000
END:STANDARD
END:VTIMEZONE
BEGIN:VEVENT
DTSTART;TZID=UTC:20220921T190000
DTEND;TZID=UTC:20221026T200000
DTSTAMP:20260426T030043
CREATED:20220901T161131Z
LAST-MODIFIED:20230820T050900Z
UID:1511-1663786800-1666814400@inner-strength.com
SUMMARY:The Use of Stone Medicine for Alchemical and Spiritual Transformation 
DESCRIPTION:6 week online course on Wednesday evenings\, live from 7-8pm ET.\nClass will also be recorded and available for you to watch in the future.\nStone medicine historically uses the rocks and minerals naturally created by the Earth for healing purposes as well obtaining enlightenment. \nAs many supplements and herbs are at risk for being regulated or hard to find\, Stone Medicine remains a viable choice for healing and transforming. \nYou will learn: \n\nHow the Law of signatures affects the properties or qualities of the stones. For example\, how a stone is formed either by volcanism or erosion can affect its signature.\nThe Yin and Yang aspects of Stones\nCrystal structure and sacred geometry\nStone affinities\nHow to use Stones based in Chinese Medicine for healing including specific accupoints and combinations\nDefensive Wei Qi Stones\nTopical applications and internal applications\nThe three stages of alchemical transformation\nStones (that are safe\, unlike cinnabar) and their applications for Spiritual Awakening including meditations\n\nA list of stones will be provided upon signup for use during our meditations
URL:https://inner-strength.com/event/the-use-of-stone-medicine-for-alchemical-and-spiritual-transformation/
LOCATION:ONLINE
ATTACH;FMTTYPE=image/jpeg:https://inner-strength.com/wp-content/uploads/2022/09/Weekly-Qigong-Online13.jpg
END:VEVENT
BEGIN:VEVENT
DTSTART;TZID=UTC:20221009T090000
DTEND;TZID=UTC:20221010T170000
DTSTAMP:20260426T030043
CREATED:20220830T183549Z
LAST-MODIFIED:20230820T050935Z
UID:1481-1665306000-1665421200@inner-strength.com
SUMMARY:Immortal Mind Study Program
DESCRIPTION:This philosophical retreat program is a group of caring and deep thinking individuals who are committed to exploring their own self talk and mindscape of how they understand themselves emotionally / spiritually and how to make sense of the world around them. It is a place to be amongst thinkers\, sharing in a mastermind approach\, as well as based in Taoist principals. The next class begins in October\, and is always the second weekend of the month\, Saturday and Sunday\, 9 am – 5pm ET. \nThis program runs for a year\, with once a month weekend program of introspection\, study\, meditation and reflection. If monthly travel is not available\, this is also available via live Zoom as well. (It is not recorded\, as it is meant to be participatory and also to honor the sacred space for everyone sharing there) We would love to have your energy present on the mountain – as the group energy is so high and wonderful to bask in. \nThe time spent will be lecture on Taoist\, Buddhist and Native American concepts of living without judgement\, the art of happiness\, dealing with death (transition) and loss of loved ones as well as learning new meditations to open up the chakras\, removing Luo channels and cleansing the Po as just a few examples. We will also discuss how memory works (the Hun) and how to recover from trauma. \nAll things relative to the Mind are open for discussion. The objective is to walk away with new clarity of the energies of Heaven / Earth and how to be a better person suspended between them.
URL:https://inner-strength.com/event/immortal-mind-study-program/
LOCATION:Inner Strength\, Inc.\, 825 Lovers Leap Rd\, Leechburg\, PA\, 15656\, United States
ATTACH;FMTTYPE=image/jpeg:https://inner-strength.com/wp-content/uploads/2020/04/immortal-mind-weekend.jpg
END:VEVENT
END:VCALENDAR