BEGIN:VCALENDAR
VERSION:2.0
PRODID:-//Inner Strength, Inc. with Dr Ted Cibik - ECPv6.2.0.1//NONSGML v1.0//EN
CALSCALE:GREGORIAN
METHOD:PUBLISH
X-WR-CALNAME:Inner Strength, Inc. with Dr Ted Cibik
X-ORIGINAL-URL:https://inner-strength.com
X-WR-CALDESC:Events for Inner Strength, Inc. with Dr Ted Cibik
REFRESH-INTERVAL;VALUE=DURATION:PT1H
X-Robots-Tag:noindex
X-PUBLISHED-TTL:PT1H
BEGIN:VTIMEZONE
TZID:UTC
BEGIN:STANDARD
TZOFFSETFROM:+0000
TZOFFSETTO:+0000
TZNAME:UTC
DTSTART:20230101T000000
END:STANDARD
END:VTIMEZONE
BEGIN:VEVENT
DTSTART;TZID=UTC:20230211T090000
DTEND;TZID=UTC:20230212T170000
DTSTAMP:20260425T203618
CREATED:20230131T175749Z
LAST-MODIFIED:20230820T050942Z
UID:1621-1676106000-1676221200@inner-strength.com
SUMMARY:Immortal Mind Retreat Weekend
DESCRIPTION:This philosophical retreat program is a group of caring and deep thinking individuals who are committed to exploring their own self talk and mindscape of how they understand themselves emotionally / spiritually and how to make sense of the world around them. It is a place to be amongst thinkers\, sharing in a mastermind approach\, as well as based in Taoist principals. The class is the second weekend of the month\, Saturday and Sunday\, 9 am – 5pm ET. We encourage people to come here in person and enjoy our 88 sacred acres\, however\, you can also attend LIVE on ZOOM. \nCome for one weekend\, or sign up for a year to get a greatly discounted tuition price. \nThe time spent will be lecture on Taoist\, Buddhist and Native American concepts of living without judgement\, the art of happiness\, dealing with death (transition) and loss of loved ones as well as learning new meditations to open up the chakras\, removing Luo channels and cleansing the Po as just a few examples. We will also discuss how memory works (the Hun) and how to recover from trauma. \nAll things relative to the Mind are open for discussion. The objective is to walk away with new clarity of the energies of Heaven / Earth and how to be a better person suspended between them. \nThis program runs for a year\, with once a month weekend program of introspection\, study\, meditation and reflection. If monthly travel is not available\, this is also available via live Zoom as well. (It is not recorded\, as it is meant to be participatory and also to honor the sacred space for everyone sharing there) We would love to have your energy present on the mountain – as the group energy is so high and wonderful to bask in.
URL:https://inner-strength.com/event/immortal-mind-study-program-2/
LOCATION:Inner Strength\, Inc.\, 825 Lovers Leap Rd\, Leechburg\, PA\, 15656\, United States
ATTACH;FMTTYPE=image/jpeg:https://inner-strength.com/wp-content/uploads/2020/04/immortal-mind-weekend.jpg
END:VEVENT
BEGIN:VEVENT
DTSTART;TZID=UTC:20230218T080000
DTEND;TZID=UTC:20230219T170000
DTSTAMP:20260425T203618
CREATED:20220216T151300Z
LAST-MODIFIED:20230820T050948Z
UID:1420-1676707200-1676826000@inner-strength.com
SUMMARY:Medical QiGong for Self Health
DESCRIPTION:All healing is energy work. \nWhen you heal from a cut or an operation\, when you recuperate from a cold or cancer –  it is energy work; whether that is mental or physical illness – it works on common every principals. \nHow does this miracle happen? \nIn this course we will teach you how it happens and what YOU can do to magnify that opportunity to HEAL YOURSELF. \nABOUT THIS COURSE:\nThis course presents the roots of oriental medicine and how you may apply it to your own self health. Various methods will be used to help you become aware of your body’s energetic flow and blockages. \n\nLearn qigong exercises for purging  obstructions and block chi from your body\nPractice acquiring energy and regulating\nIncorporate practices for protection against energy pathogens and toxic emotions.
URL:https://inner-strength.com/event/medical-qigong-for-self-health/
LOCATION:Inner Strength\, Inc.\, 825 Lovers Leap Rd\, Leechburg\, PA\, 15656\, United States
ATTACH;FMTTYPE=image/jpeg:https://inner-strength.com/wp-content/uploads/2022/02/Medical-Qigong-Therapist5.jpg
END:VEVENT
BEGIN:VEVENT
DTSTART;TZID=UTC:20230225T090000
DTEND;TZID=UTC:20230225T130000
DTSTAMP:20260425T203618
CREATED:20221023T165122Z
LAST-MODIFIED:20230820T051001Z
UID:1555-1677315600-1677330000@inner-strength.com
SUMMARY:Blood & Qi for Longevity
DESCRIPTION:LIVE ONLINE ZOOM CLASS\nFebruary 25th\, 2023 9 am – 1pm ET\nAncient wisdom of health and wellness is powerful\, as shown by medical qigong and other energy work modalities. However\, it doesn’t mean that we should ignore all the benefits that our modern world can provide. \nUnderstand bloodwork as a means for longevity and physical and mental health! \nBlood work results are a powerful way to understanding how the body is working\, or not working\, and then energy work practices can be applied specifically to help aid what is not in balance.
URL:https://inner-strength.com/event/blood-qi-for-longevity/
LOCATION:ONLINE
ATTACH;FMTTYPE=image/jpeg:https://inner-strength.com/wp-content/uploads/2022/10/Medical-Qigong-Therapist7.jpg
END:VEVENT
END:VCALENDAR